BEGIN:VCALENDAR
VERSION:2.0
CALSCALE:GREGORIAN
PRODID:adamgibbons/ics
METHOD:PUBLISH
X-PUBLISHED-TTL:PT1H
BEGIN:VEVENT
UID:101@chicagogoth.com
SUMMARY:Bring Me the Horizon\, Motionless in White\, Amira Elfeky
DTSTAMP:20260421T111715Z
DTSTART:20260515T230000Z
URL:https://chicagogoth.com/event/bring-me-the-horizon-motionless-in-white-
	amira-elfeky
LOCATION:Allstate Arena - 6920 Mannheim Rd\, Rosemont\, IL 60018
STATUS:CONFIRMED
CATEGORIES:live-music
END:VEVENT
END:VCALENDAR
