BEGIN:VCALENDAR
VERSION:2.0
CALSCALE:GREGORIAN
PRODID:adamgibbons/ics
METHOD:PUBLISH
X-PUBLISHED-TTL:PT1H
BEGIN:VEVENT
UID:344@chicagogoth.com
SUMMARY:Thornton Distilling Co. presents: Zombie Prom
DTSTAMP:20260424T014851Z
DTSTART:20260509T233000Z
DTEND:20260510T033000Z
URL:https://chicagogoth.com/event/zombie-prom
LOCATION:Thornton Distilling Co. - 400 E Margaret St\, Thornton\, IL 60476
STATUS:CONFIRMED
CATEGORIES:dance-party
BEGIN:VALARM
ACTION:DISPLAY
DESCRIPTION:Thornton Distilling Co. presents: Zombie Prom
TRIGGER:-PT1H
END:VALARM
END:VEVENT
END:VCALENDAR
