BEGIN:VCALENDAR
VERSION:2.0
CALSCALE:GREGORIAN
PRODID:adamgibbons/ics
METHOD:PUBLISH
X-PUBLISHED-TTL:PT1H
BEGIN:VEVENT
UID:348@chicagogoth.com
SUMMARY:World Goth Day: DJ Philly Peroxide @ Reckless Records
DTSTAMP:20260425T191846Z
DTSTART:20260522T200000Z
DTEND:20260522T230000Z
URL:https://chicagogoth.com/event/world-goth-day-dj-philly-peroxide-reckles
	s-records
LOCATION:Reckless Records Wicker Park - 1379 N Milwaukee Ave\, Chicago\, IL
	 60622
STATUS:CONFIRMED
CATEGORIES:
BEGIN:VALARM
ACTION:DISPLAY
DESCRIPTION:World Goth Day: DJ Philly Peroxide @ Reckless Records
TRIGGER:-PT1H
END:VALARM
END:VEVENT
END:VCALENDAR
