BEGIN:VCALENDAR
VERSION:2.0
CALSCALE:GREGORIAN
PRODID:adamgibbons/ics
METHOD:PUBLISH
X-PUBLISHED-TTL:PT1H
BEGIN:VEVENT
UID:329@chicagogoth.com
SUMMARY:WITCHZ
DTSTAMP:20260421T080106Z
DTSTART:20260419T003000Z
URL:https://chicagogoth.com/event/witchz
LOCATION:Park West - 322 W Armitage Ave\, Chicago\, IL 60614
STATUS:CONFIRMED
CATEGORIES:live-music
BEGIN:VALARM
ACTION:DISPLAY
DESCRIPTION:WITCHZ
TRIGGER:-PT1H
END:VALARM
END:VEVENT
END:VCALENDAR
