BEGIN:VCALENDAR
VERSION:2.0
CALSCALE:GREGORIAN
PRODID:adamgibbons/ics
METHOD:PUBLISH
X-PUBLISHED-TTL:PT1H
BEGIN:VEVENT
UID:332@chicagogoth.com
SUMMARY:WITCH-O-RAMA Market and Drag show
DTSTAMP:20260421T101932Z
DTSTART:20260614T170000Z
DTEND:20260614T220000Z
URL:https://chicagogoth.com/event/witch-o-rama-market-and-drag-show-2
LOCATION:Public Works Gallery - 2141 W North Ave\, Chicago\, IL 60647
STATUS:CONFIRMED
CATEGORIES:market
BEGIN:VALARM
ACTION:DISPLAY
DESCRIPTION:WITCH-O-RAMA Market and Drag show
TRIGGER:-PT1H
END:VALARM
END:VEVENT
END:VCALENDAR
