BEGIN:VCALENDAR
VERSION:2.0
CALSCALE:GREGORIAN
PRODID:adamgibbons/ics
METHOD:PUBLISH
X-PUBLISHED-TTL:PT1H
BEGIN:VEVENT
UID:335@chicagogoth.com
SUMMARY:Vincemp3
DTSTAMP:20260423T091714Z
DTSTART:20260531T230000Z
URL:https://chicagogoth.com/event/vincemp3
LOCATION:Subterranean - 2011 W North Ave\, Chicago\, IL 60647
STATUS:CONFIRMED
CATEGORIES:live-music,goth-adjacent
BEGIN:VALARM
ACTION:DISPLAY
DESCRIPTION:Vincemp3
TRIGGER:-PT1H
END:VALARM
END:VEVENT
END:VCALENDAR
