BEGIN:VCALENDAR
VERSION:2.0
CALSCALE:GREGORIAN
PRODID:adamgibbons/ics
METHOD:PUBLISH
X-PUBLISHED-TTL:PT1H
BEGIN:VEVENT
UID:323@chicagogoth.com
SUMMARY:New Wave Night
DTSTAMP:20260421T101732Z
DTSTART:20260503T030000Z
URL:https://chicagogoth.com/event/new-wave-night-1
LOCATION:Late Bar - 3534 W Belmont Ave\, Chicago\, IL 60618
STATUS:CONFIRMED
CATEGORIES:dance-party
BEGIN:VALARM
ACTION:DISPLAY
DESCRIPTION:New Wave Night
TRIGGER:-PT1H
END:VALARM
END:VEVENT
END:VCALENDAR
