BEGIN:VCALENDAR
VERSION:2.0
CALSCALE:GREGORIAN
PRODID:adamgibbons/ics
METHOD:PUBLISH
X-PUBLISHED-TTL:PT1H
BEGIN:VEVENT
UID:338@chicagogoth.com
SUMMARY:Motoblot 2026
DTSTAMP:20260423T112431Z
DTSTART:20260619T210000Z
DTEND:20260622T030000Z
URL:https://chicagogoth.com/event/motoblot-2026
LOCATION:Multiple Venues - Multiple Venues
STATUS:CONFIRMED
CATEGORIES:live-music
BEGIN:VALARM
ACTION:DISPLAY
DESCRIPTION:Motoblot 2026
TRIGGER:-PT1H
END:VALARM
END:VEVENT
END:VCALENDAR
