BEGIN:VCALENDAR
VERSION:2.0
CALSCALE:GREGORIAN
PRODID:adamgibbons/ics
METHOD:PUBLISH
X-PUBLISHED-TTL:PT1H
BEGIN:VEVENT
UID:339@chicagogoth.com
SUMMARY:Motoblot 2026 with The Dollyrots\, Glyders\, The Rumours\, The Orch
	ard\, Black Widows Empire\, Free Times\, The Evictions\, Curls Ultra
DTSTAMP:20260423T111845Z
DTSTART:20260619T210000Z
DTEND:20260620T030000Z
URL:https://chicagogoth.com/event/motoblot-2026-with-the-dollyrots-glyders-
	the-rumours-the-orchard-black-widows-empire-free-times-the-evictions-curls
	-ultra
LOCATION:Bridgeport - Halsted @ 35th St
STATUS:CONFIRMED
CATEGORIES:live-music
X-ALT-DESC;FMTTYPE=text/html:<p></p>
BEGIN:VALARM
ACTION:DISPLAY
DESCRIPTION:Motoblot 2026 with The Dollyrots, Glyders, The Rumours, The Orc
	hard, Black Widows Empire, Free Times, The Evictions, Curls Ultra
TRIGGER:-PT1H
END:VALARM
END:VEVENT
END:VCALENDAR
