BEGIN:VCALENDAR
VERSION:2.0
CALSCALE:GREGORIAN
PRODID:adamgibbons/ics
METHOD:PUBLISH
X-PUBLISHED-TTL:PT1H
BEGIN:VEVENT
UID:340@chicagogoth.com
SUMMARY:Motoblot 2026 with Nekromantix\, The Midnight Cowgirls\, Molder\, H
	igh Command\, Boybrain\, Electric Hawk\, The Knee Hi’s\, Sex Scenes\, Thre
	e Blue Teardrops\, Lollygagger\, Wreckin’ Ball\, Guhts\, Broken Demeanor\,
	 Iris Marlowe\, School of Rock
DTSTAMP:20260423T111320Z
DTSTART:20260620T170000Z
DTEND:20260621T030000Z
URL:https://chicagogoth.com/event/motoblot-2026-with-nekromantix-the-midnig
	ht-cowgirls-molder-high-command-boybrain-electric-hawk-the-knee-his-sex-sc
	enes-three-blue-teardrops-lollygagger-wreckin-ball-guhts-broken-demeanor-i
	ris-marlowe-school-of-rock
LOCATION:Bridgeport - Halsted @ 35th St
STATUS:CONFIRMED
CATEGORIES:live-music
X-ALT-DESC;FMTTYPE=text/html:<p></p>
BEGIN:VALARM
ACTION:DISPLAY
DESCRIPTION:Motoblot 2026 with Nekromantix, The Midnight Cowgirls, Molder, 
	High Command, Boybrain, Electric Hawk, The Knee Hi’s, Sex Scenes, Three Bl
	ue Teardrops, Lollygagger, Wreckin’ Ball, Guhts, Broken Demeanor, Iris Mar
	lowe, School of Rock
TRIGGER:-PT1H
END:VALARM
END:VEVENT
END:VCALENDAR
