BEGIN:VCALENDAR
VERSION:2.0
CALSCALE:GREGORIAN
PRODID:adamgibbons/ics
METHOD:PUBLISH
X-PUBLISHED-TTL:PT1H
BEGIN:VEVENT
UID:326@chicagogoth.com
SUMMARY:MICTLĀN Productions presents: SIMULATION with DJs Henry Brooks\, Fl
	ores Negras\, Vesolo
DTSTAMP:20260421T080858Z
DTSTART:20260517T020000Z
URL:https://chicagogoth.com/event/mictlan-productions-presents-simulation-w
	ith-djs-henry-brooks-flores-negras-vesolo
LOCATION:Podlasie Club - 2918 N Central Park Ave\, Chicago\, IL 60618
STATUS:CONFIRMED
CATEGORIES:dance-party,goth-adjacent
BEGIN:VALARM
ACTION:DISPLAY
DESCRIPTION:MICTLĀN Productions presents: SIMULATION with DJs Henry Brooks,
	 Flores Negras, Vesolo
TRIGGER:-PT1H
END:VALARM
END:VEVENT
END:VCALENDAR
