BEGIN:VCALENDAR
VERSION:2.0
CALSCALE:GREGORIAN
PRODID:adamgibbons/ics
METHOD:PUBLISH
X-PUBLISHED-TTL:PT1H
BEGIN:VEVENT
UID:314@chicagogoth.com
SUMMARY:Lyn Pilolla - A Celebration of Life and Dance
DTSTAMP:20260421T083942Z
DTSTART:20260418T020000Z
DESCRIPTION:Lyn Pilolla - A fixture on my dance floors since the mid-90s! W
	e unfortunately\nlost Lyn on Feb 13th but her spirit will forever be out o
	n that dance floor. To\nknow Lyn was to lover her\, always kind and always
	 upbeat. Please join us at Late\nBar as we celebrate her the best way we k
	now how: Dancing! If you have a Lyn\nsong that absolutely reminds you of h
	er\, please let me know in advance so it can\nbe played.\n\nLots of New Or
	der\, Underworld\, Faithless and other 90s and 00’s bangers! We will\nbe p
	laying a slideshow of pics her sister Lisa has compiled from open until\na
	bout 1:00. That is when we will focus our thoughts and energy on Lyn so pl
	ease\ncome early if you can!\n\nCover is $7\nDoors - 8:00\nDJ - 10:00
URL:https://chicagogoth.com/event/lyn-pilolla-a-celebration-of-life-and-dan
	ce
LOCATION:Late Bar - 3534 W Belmont Ave\, Chicago\, IL 60618
STATUS:CONFIRMED
CATEGORIES:
X-ALT-DESC;FMTTYPE=text/html:<p>Lyn Pilolla - A fixture on my dance floors 
	since the mid-90s! We unfortunately lost Lyn on Feb 13th but her spirit wi
	ll forever be out on that dance floor. To know Lyn was to lover her, alway
	s kind and always upbeat. Please join us at Late Bar as we celebrate her t
	he best way we know how: Dancing! If you have a Lyn song that absolutely r
	eminds you of her, please let me know in advance so it can be played.<br><
	br>Lots of New Order, Underworld, Faithless and other 90s and 00’s bangers
	! We will be playing a slideshow of pics her sister Lisa has compiled from
	 open until about 1:00. That is when we will focus our thoughts and energy
	 on Lyn so please come early if you can!<br><br>Cover is $7<br>Doors - 8:0
	0<br>DJ - 10:00</p>
BEGIN:VALARM
ACTION:DISPLAY
DESCRIPTION:Lyn Pilolla - A Celebration of Life and Dance
TRIGGER:-PT1H
END:VALARM
END:VEVENT
END:VCALENDAR
