BEGIN:VCALENDAR
VERSION:2.0
CALSCALE:GREGORIAN
PRODID:adamgibbons/ics
METHOD:PUBLISH
X-PUBLISHED-TTL:PT1H
BEGIN:VEVENT
UID:337@chicagogoth.com
SUMMARY:Jane Remover\, dazegxd
DTSTAMP:20260423T110405Z
DTSTART:20260614T010000Z
URL:https://chicagogoth.com/event/jane-remover-dazegxd
LOCATION:Metro Chicago - 3730 N Clark St\, Chicago\, IL 60613
STATUS:CONFIRMED
CATEGORIES:live-music,goth-adjacent
BEGIN:VALARM
ACTION:DISPLAY
DESCRIPTION:Jane Remover, dazegxd
TRIGGER:-PT1H
END:VALARM
END:VEVENT
END:VCALENDAR
