BEGIN:VCALENDAR
VERSION:2.0
CALSCALE:GREGORIAN
PRODID:adamgibbons/ics
METHOD:PUBLISH
X-PUBLISHED-TTL:PT1H
BEGIN:VEVENT
UID:349@chicagogoth.com
SUMMARY:Industry Night w/ DJ Snowdoge
DTSTAMP:20260426T010741Z
DTSTART:20260505T010000Z
URL:https://chicagogoth.com/event/industry-night-with-dj-snowdoge
LOCATION:Sleeping Village - 3734 W Belmont Ave\, Chicago\, IL 60618
STATUS:CONFIRMED
CATEGORIES:dance-party,goth-adjacent
BEGIN:VALARM
ACTION:DISPLAY
DESCRIPTION:Industry Night w/ DJ Snowdoge
TRIGGER:-PT1H
END:VALARM
END:VEVENT
END:VCALENDAR
