BEGIN:VCALENDAR
VERSION:2.0
CALSCALE:GREGORIAN
PRODID:adamgibbons/ics
METHOD:PUBLISH
X-PUBLISHED-TTL:PT1H
BEGIN:VEVENT
UID:322@chicagogoth.com
SUMMARY:Hot on the Heels 20th Anniversary with Lula Asplund\, Bakantez\, IN
	FX\, Club Drippy\, Love Free Spirit\, DJs Carlos Souffront\, Beau Wanzer
DTSTAMP:20260422T090323Z
DTSTART:20260503T000000Z
URL:https://chicagogoth.com/event/hot-on-the-heels-20th-anniversary-with-lu
	la-asplund-bakantez-infx-club-drippy-love-free-spirit-djs-carlos-souffront
	-beau-wanzer
LOCATION:The California Clipper - 1002 N California Ave\, Chicago\, IL 6062
	2
STATUS:CONFIRMED
CATEGORIES:live-music,dance-party
BEGIN:VALARM
ACTION:DISPLAY
DESCRIPTION:Hot on the Heels 20th Anniversary with Lula Asplund, Bakantez, 
	INFX, Club Drippy, Love Free Spirit, DJs Carlos Souffront, Beau Wanzer
TRIGGER:-PT1H
END:VALARM
END:VEVENT
END:VCALENDAR
