BEGIN:VCALENDAR
VERSION:2.0
CALSCALE:GREGORIAN
PRODID:adamgibbons/ics
METHOD:PUBLISH
X-PUBLISHED-TTL:PT1H
BEGIN:VEVENT
UID:342@chicagogoth.com
SUMMARY:Ghostly Kisses
DTSTAMP:20260423T110226Z
DTSTART:20260918T010000Z
URL:https://chicagogoth.com/event/ghostly-kisses
LOCATION:Schubas Tavern - 3159 N Southport Ave\, Chicago\, IL 60657
STATUS:CONFIRMED
CATEGORIES:live-music,goth-adjacent
BEGIN:VALARM
ACTION:DISPLAY
DESCRIPTION:Ghostly Kisses
TRIGGER:-PT1H
END:VALARM
END:VEVENT
END:VCALENDAR
