BEGIN:VCALENDAR
VERSION:2.0
CALSCALE:GREGORIAN
PRODID:adamgibbons/ics
METHOD:PUBLISH
X-PUBLISHED-TTL:PT1H
BEGIN:VEVENT
UID:333@chicagogoth.com
SUMMARY:DJ Jesse de la Peña
DTSTAMP:20260422T025105Z
DTSTART:20260424T140000Z
URL:https://chicagogoth.com/event/dj-jesse-de-la-pena
LOCATION:New Rose - 2058 W Cermak Rd\, Chicago\, IL 60608
STATUS:CONFIRMED
CATEGORIES:dance-party
BEGIN:VALARM
ACTION:DISPLAY
DESCRIPTION:DJ Jesse de la Peña
TRIGGER:-PT1H
END:VALARM
END:VEVENT
END:VCALENDAR
