BEGIN:VCALENDAR
VERSION:2.0
CALSCALE:GREGORIAN
PRODID:adamgibbons/ics
METHOD:PUBLISH
X-PUBLISHED-TTL:PT1H
BEGIN:VEVENT
UID:346@chicagogoth.com
SUMMARY:CAMERON CARNIVAL with CAMERON\, DAMMIT!\, violet garden
DTSTAMP:20260425T024731Z
DTSTART:20260524T190000Z
URL:https://chicagogoth.com/event/cameron-carnival-with-cameron-dammit-viol
	et-garden
LOCATION:The Low Pressure Collective - DM for address
STATUS:CONFIRMED
CATEGORIES:live-music
BEGIN:VALARM
ACTION:DISPLAY
DESCRIPTION:CAMERON CARNIVAL with CAMERON, DAMMIT!, violet garden
TRIGGER:-PT1H
END:VALARM
END:VEVENT
END:VCALENDAR
