BEGIN:VCALENDAR
VERSION:2.0
CALSCALE:GREGORIAN
PRODID:adamgibbons/ics
METHOD:PUBLISH
X-PUBLISHED-TTL:PT1H
BEGIN:VEVENT
UID:345@chicagogoth.com
SUMMARY:Boulet Brothers' Dragula: Titans 2 Tour
DTSTAMP:20260424T063803Z
DTSTART:20260425T000000Z
URL:https://chicagogoth.com/event/boulet-brothers-dragula-titans-2-tour
LOCATION:House of Blues Chicago - 329 N Dearborn St\, Chicago\, IL 60654
STATUS:CONFIRMED
CATEGORIES:drag
BEGIN:VALARM
ACTION:DISPLAY
DESCRIPTION:Boulet Brothers' Dragula: Titans 2 Tour
TRIGGER:-PT1H
END:VALARM
END:VEVENT
END:VCALENDAR
