BEGIN:VCALENDAR
VERSION:2.0
CALSCALE:GREGORIAN
PRODID:adamgibbons/ics
METHOD:PUBLISH
X-PUBLISHED-TTL:PT1H
BEGIN:VEVENT
UID:343@chicagogoth.com
SUMMARY:Book of Love with DJ Philly Peroxide
DTSTAMP:20260423T112431Z
DTSTART:20261011T003000Z
URL:https://chicagogoth.com/event/book-of-love-with-dj-philly-peroxide
LOCATION:Metro Chicago - 3730 N Clark St\, Chicago\, IL 60613
STATUS:CONFIRMED
CATEGORIES:live-music
BEGIN:VALARM
ACTION:DISPLAY
DESCRIPTION:Book of Love with DJ Philly Peroxide
TRIGGER:-PT1H
END:VALARM
END:VEVENT
END:VCALENDAR
