BEGIN:VCALENDAR
VERSION:2.0
CALSCALE:GREGORIAN
PRODID:adamgibbons/ics
METHOD:PUBLISH
X-PUBLISHED-TTL:PT1H
BEGIN:VEVENT
UID:334@chicagogoth.com
SUMMARY:ALL WAYS / OUTER SOUNDS with DJ Shawn Rios
DTSTAMP:20260423T025434Z
DTSTART:20260515T220000Z
DTEND:20260516T010000Z
DESCRIPTION:From early 80s New Wave and Dark Wave sleekness to Punk and haz
	y\, ethereal\nsynthscapes\, guilty pleasure classics and dance floor gems—
	 all tie together in\na cohesive\, sophisticated set\, feeling like a Sofi
	a Coppola film that hasn’t\nbeen made yet. A Chicago native\, Rios was the
	 creator-curator of The White Room\nand is the co-founder and drummer for 
	MIIRRORS.
URL:https://chicagogoth.com/event/all-ways-outer-sounds-with-dj-shawn-rios
LOCATION:Gman Tavern - 3740 N Clark St\, Chicago\, IL 60613
STATUS:CONFIRMED
CATEGORIES:dance-party
X-ALT-DESC;FMTTYPE=text/html:<p>From early 80s New Wave and Dark Wave sleek
	ness to Punk and hazy, ethereal synthscapes, guilty pleasure classics and 
	dance floor gems—&nbsp;all tie together in a cohesive, sophisticated set, 
	feeling like a Sofia Coppola film that hasn’t been made yet. A Chicago nat
	ive, Rios was the creator-curator of The White Room and&nbsp;is the co-fou
	nder and drummer for MIIRRORS.</p>
BEGIN:VALARM
ACTION:DISPLAY
DESCRIPTION:ALL WAYS / OUTER SOUNDS with DJ Shawn Rios
TRIGGER:-PT1H
END:VALARM
END:VEVENT
END:VCALENDAR
