BEGIN:VCALENDAR
VERSION:2.0
CALSCALE:GREGORIAN
PRODID:adamgibbons/ics
METHOD:PUBLISH
X-PUBLISHED-TTL:PT1H
BEGIN:VEVENT
UID:330@chicagogoth.com
SUMMARY:A Freya West and Hot Tawdry Production - Decades: 80's Prom Night
DTSTAMP:20260421T080805Z
DTSTART:20260510T010000Z
URL:https://chicagogoth.com/event/a-freya-west-and-hot-tawdry-production-de
	cades-80s-prom-night
LOCATION:Bottom Lounge - 1375 W Lake St\, Chicago\, IL 60607
STATUS:CONFIRMED
CATEGORIES:dance-party,goth-adjacent
BEGIN:VALARM
ACTION:DISPLAY
DESCRIPTION:A Freya West and Hot Tawdry Production - Decades: 80's Prom Nig
	ht
TRIGGER:-PT1H
END:VALARM
END:VEVENT
END:VCALENDAR
