BEGIN:VCALENDAR
VERSION:2.0
CALSCALE:GREGORIAN
PRODID:adamgibbons/ics
METHOD:PUBLISH
X-PUBLISHED-TTL:PT1H
BEGIN:VEVENT
UID:327@chicagogoth.com
SUMMARY:33 GIRI (Italo Disco Night) with DJs Pen Pals\, Nolia\, Shaun J. Wr
	ight
DTSTAMP:20260421T081159Z
DTSTART:20260515T020000Z
DESCRIPTION:33 GIRI NOTTI ITALO DISCO AL PODLASIE CLUB with special guest S
	haun J Wright
URL:https://chicagogoth.com/event/33-giri-italo-disco-night-with-djs-pen-pa
	ls-nolia-shaun-j-wright
LOCATION:Podlasie Club - 2918 N Central Park Ave\, Chicago\, IL 60618
STATUS:CONFIRMED
CATEGORIES:dance-party
X-ALT-DESC;FMTTYPE=text/html:<p>33 GIRI NOTTI ITALO DISCO AL PODLASIE CLUB 
	with special guest Shaun J Wright</p>
BEGIN:VALARM
ACTION:DISPLAY
DESCRIPTION:33 GIRI (Italo Disco Night) with DJs Pen Pals, Nolia, Shaun J. 
	Wright
TRIGGER:-PT1H
END:VALARM
END:VEVENT
END:VCALENDAR
